BEGIN:VCALENDAR
VERSION:2.0
PRODID:-//Venice Dream House - ECPv5.10.1//NONSGML v1.0//EN
CALSCALE:GREGORIAN
METHOD:PUBLISH
X-WR-CALNAME:Venice Dream House
X-ORIGINAL-URL:https://www.venicedreamhouse.com
X-WR-CALDESC:Eventi per Venice Dream House
BEGIN:VTIMEZONE
TZID:Europe/Rome
BEGIN:DAYLIGHT
TZOFFSETFROM:+0100
TZOFFSETTO:+0200
TZNAME:CEST
DTSTART:20200329T010000
END:DAYLIGHT
BEGIN:STANDARD
TZOFFSETFROM:+0200
TZOFFSETTO:+0100
TZNAME:CET
DTSTART:20201025T010000
END:STANDARD
END:VTIMEZONE
BEGIN:VEVENT
DTSTART;VALUE=DATE:20200208
DTEND;VALUE=DATE:20200226
DTSTAMP:20260423T130728
CREATED:20200212T174227Z
LAST-MODIFIED:20200212T174252Z
UID:8173-1581120000-1582675199@www.venicedreamhouse.com
SUMMARY:Carnevale di Venezia 2020
DESCRIPTION:Dal 8 al 25 febbraio 2020 si terrà il Carnevale di Venezia\, la festa più glamour per tutti gli appassionati del Carnevale\, uno dei più spettacolari al mondo. \nIl Carnevale di Venezia è conosciuto in tutto il mondo per la sua bellezza ed eleganza. Ogni anno ha un tema specifico\, ma da sempre\, secolo dopo secolo\, le maschere e i costumi sono ispirati alla raffinatezza veneziana e a nascondere l’identità\, il sesso e la classe sociale dei partecipanti\, dietro ad un costume meraviglioso. \nL’edizione 2020 ruoterà intorno al tema dell’amore declinato insieme al gioco e a un pizzico di follia. \nDa sabato 15 a martedì 25 febbraio Piazza di San Marco\, cuore della città\, si trasforma in un grande palcoscenico\, luogo di incontri giocosi e di sfilate all’insegna dell’amore\, di maschere e folli spettacoli\, facendo vivere al pubblico un’immersione nella magia e nei colori del carnevale quest’anno con la Direzione Artistica di Massimo Checchetto. \nDomenica 16 e domenica 23 febbraio non mancheranno i tradizionali voli dal Campanile di Piazza San Marco: il Volo dell’Angelo Linda Pani (Maria del Carnevale 2019) e il Volo dell’Aquila\, che come ormai da anni\, vede la discesa di un personaggio dei nostri giorni. \nSabato 15 febbraio sul palcoscenico di Piazza San Marco verranno presentate le 12 Marie selezionate per l’edizione 2020\, la Ballata con il taglio della testa al toro sarà protagonista giovedi “grasso” 20 febbraio e Signori della Notte metteranno ordine nelle antiche lotte tra Nicolotti e Castellani venerdi “grasso” 21 febbraio. \nLe maschere si contenderanno quotidianamente lo scettro di Maschera più Bella\, sfilando sul palcoscenico con l’elezione della Maschera più Bella del Carnevale 2020 domenica 23 febbraio dalle 14.30. \nDalle 17.30 Piazza San Marco si anima con musica dal vivo e dj-set. Anteprima Home Festival in collaborazione con Red Bull e Aperol Spritz. \nIl Carnevale di piazza San Marco si conclude martedì 25 febbraio con il tradizionale Svolo del Leon. \nConduzione generale: Compagnia Teatrale Pantakin con la partecipazione del Principe Maurice. \n(fonte carnevale.venezia.it)
URL:https://www.venicedreamhouse.com/event/carnevale-di-venezia-2020/
LOCATION:Piazza San Marco\, Piazza San Marco\, Venezia\, VE\, Italia
CATEGORIES:Celebrazioni
ATTACH;FMTTYPE=image/jpeg:https://www.venicedreamhouse.com/wp-content/uploads/2020/02/carnevale2020.jpg
END:VEVENT
END:VCALENDAR