BEGIN:VCALENDAR
VERSION:2.0
PRODID:-//Venice Dream House - ECPv5.10.1//NONSGML v1.0//EN
CALSCALE:GREGORIAN
METHOD:PUBLISH
X-WR-CALNAME:Venice Dream House
X-ORIGINAL-URL:https://www.venicedreamhouse.com/?lang=en
X-WR-CALDESC:Events for Venice Dream House
BEGIN:VTIMEZONE
TZID:Europe/Rome
BEGIN:DAYLIGHT
TZOFFSETFROM:+0100
TZOFFSETTO:+0200
TZNAME:CEST
DTSTART:20190331T010000
END:DAYLIGHT
BEGIN:STANDARD
TZOFFSETFROM:+0200
TZOFFSETTO:+0100
TZNAME:CET
DTSTART:20191027T010000
END:STANDARD
END:VTIMEZONE
BEGIN:VEVENT
DTSTART;VALUE=DATE:20191121
DTEND;VALUE=DATE:20191122
DTSTAMP:20260423T130602
CREATED:20180730T134658Z
LAST-MODIFIED:20190401T074022Z
UID:6822-1574294400-1574380799@www.venicedreamhouse.com
SUMMARY:Feast of the Madonna della Salute
DESCRIPTION:The Feast of the Madonna della Salute is a celebration very much felt by the Venetians that evokes a sincere popular religious sentiment in memory of a terrible plague\, that of the two years 1630-31\, during which the Doge had pronounced to Our Lady the vote to build a church dedicated to Health. \nEvery year\, for the health festival\, the votive bridge is built\, a temporary bridge on boats that crosses the Grand Canal from Santa Maria del Giglio to allow pilgrims to reach the Chiesa della Salute more easily. \nTo date\, thousands of citizens\, in a truly magical atmosphere\, march on November 21st before the great altar of the imposing Church of Health to perpetuate the age-old bond of gratitude that binds the city to the Virgin Mary and light a candle so that intercede for their health. Next to the procession\, candy stands\, colorful balloons and toys create a very special party.
URL:https://www.venicedreamhouse.com/event/feast-of-the-madonna-della-salute/?lang=en
LOCATION:Basilica della Madonna della Salute\, Dorsoduro\, 1\, Venezia\, VE\, 30123\, Italia
CATEGORIES:Celebrations
ATTACH;FMTTYPE=image/jpeg:https://www.venicedreamhouse.com/wp-content/uploads/2018/07/FestaSalute.jpg
END:VEVENT
END:VCALENDAR