BEGIN:VCALENDAR
VERSION:2.0
PRODID:-//Venice Dream House - ECPv5.10.1//NONSGML v1.0//EN
CALSCALE:GREGORIAN
METHOD:PUBLISH
X-WR-CALNAME:Venice Dream House
X-ORIGINAL-URL:https://www.venicedreamhouse.com
X-WR-CALDESC:Eventi per Venice Dream House
BEGIN:VTIMEZONE
TZID:Europe/Rome
BEGIN:DAYLIGHT
TZOFFSETFROM:+0100
TZOFFSETTO:+0200
TZNAME:CEST
DTSTART:20190331T010000
END:DAYLIGHT
BEGIN:STANDARD
TZOFFSETFROM:+0200
TZOFFSETTO:+0100
TZNAME:CET
DTSTART:20191027T010000
END:STANDARD
END:VTIMEZONE
BEGIN:VEVENT
DTSTART;VALUE=DATE:20190720
DTEND;VALUE=DATE:20190722
DTSTAMP:20260423T130425
CREATED:20180731T071651Z
LAST-MODIFIED:20180927T143614Z
UID:4620-1563580800-1563753599@www.venicedreamhouse.com
SUMMARY:Festa del Redentore 2019
DESCRIPTION:La Festa del Redentore è la più grande festa popolare cittadina\, tra le festività più sinceramente sentite dai veneziani\, in cui convivono l’aspetto religioso e quello spettacolare. \nNel 1575 Venezia fu investita da una tremenda epidemia di peste che durò quasi due anni e si porto via più di 50.000 vittime. Il Doge esortò il popolo a pregare e deliberò che venne costruito un tempio votivo dedicato al Redentore non appena la pestilenza fosse terminata. Cessata l’epidemia\, il governo incarico subito l’architetto Andrea Palladio di progettare la chiesa\, che inizio la costruzione nel 1577. Si decretò inoltre che la terza domenica di luglio fosse per sempre dedicata alla visita al Tempio del Redentore\, e si fece costruire un ponte di barche per raggiungere comodamente la chiesa eretta nell’isola della Giudecca. Molte persone\, per paura di non trovare posto\, si appostavano nei pressi della Chiesa già dalla sera precedente\, ornando le proprie barche con festoni e palloncini di carta illuminati da candele. \n\nAncora oggi\, viene costruito il ponte votivo che collega le Zattere con la Chiesa del Redentore per permettere alla popolazione di recarsi in pellegrinaggio alla Chiesa del Redentore e vengono organizzate delle regate in onore al Redentore. Dalla sera precedente il bacino di San Marco si riempie di imbarcazioni di ogni genere\, dove si banchetta in attesa del grande spettacolo pirotecnico\, con meravigliosi giochi di luci e riflessi che trasformano il cielo sopra Venezia in un caleidoscopio di colori che illumina le cupole\, i campanili e i palazzi della città. \nUno spettacolo mozzafiato\, nell’inimitabile palcoscenico di San Marco. \n\nProgramma\nSabato 20 luglio 2019\n\nVENEZIA \nore 19.00 Apertura del ponte votivo che collega le Zattere con la Chiesa del Redentore all’isola della Giudecca \nOre 23.30 – Spettacolo pirotecnico in Bacino di San Marco  \nDomenica 21 luglio 2019\n\nREGATE DEL REDENTORE – Canale della Giudecca: \n\nOre 16.00 regata dei giovanissimi su pupparini a 2 remi\nOre 16.45 regata su pupparini a 2 remi\nOre 17.30 regata su gondole a 2 remi\n\n– Ore 19.00 – Isola della Giudecca\, presso la Chiesa del Redentore Santa Messa Votiva
URL:https://www.venicedreamhouse.com/event/festa-del-redentore-2019/
LOCATION:Bacino di San Marco\, Venezia\, VE\, Italia
CATEGORIES:Celebrazioni
ATTACH;FMTTYPE=image/jpeg:https://www.venicedreamhouse.com/wp-content/uploads/2018/07/Redentore.jpg
END:VEVENT
END:VCALENDAR