BEGIN:VCALENDAR
VERSION:2.0
PRODID:-//Venice Dream House - ECPv5.10.1//NONSGML v1.0//EN
CALSCALE:GREGORIAN
METHOD:PUBLISH
X-WR-CALNAME:Venice Dream House
X-ORIGINAL-URL:https://www.venicedreamhouse.com/?lang=en
X-WR-CALDESC:Events for Venice Dream House
BEGIN:VTIMEZONE
TZID:Europe/Rome
BEGIN:DAYLIGHT
TZOFFSETFROM:+0100
TZOFFSETTO:+0200
TZNAME:CEST
DTSTART:20200329T010000
END:DAYLIGHT
BEGIN:STANDARD
TZOFFSETFROM:+0200
TZOFFSETTO:+0100
TZNAME:CET
DTSTART:20201025T010000
END:STANDARD
END:VTIMEZONE
BEGIN:VEVENT
DTSTART;VALUE=DATE:20200110
DTEND;VALUE=DATE:20200329
DTSTAMP:20260423T160608
CREATED:20200217T102121Z
LAST-MODIFIED:20200217T102121Z
UID:8453-1578614400-1585439999@www.venicedreamhouse.com
SUMMARY:Sguardi su Venezia
DESCRIPTION:Si intitola “Sguardi su Venezia” la nuova esposizione che la Fondazione di Venezia propone nella propria sede in Rio Novo subito dopo le festività natalizie. \nRaccolte nella sala espositiva al piano terra\, trenta opere selezionate all’interno della collezione di dipinti del Novecento della Fondazione di Venezia raccontano quello che Diego Valeri definì\, nella sua Guida sentimentale di Venezia\, “il più bel piacere che a Venezia uno possa prendersi”\, ossia il perdersi fra calli e campielli cogliendo scorci e visioni sempre diverse e nuove. In questo senso il “bel piacere” è tutto nella luce dorata delle luminose vedute di De Stefani e di Favai. Lo si ritrova negli scorci di Novati\, dove schizzo veloce e gusto per la pittura en plein air rappresentano lo stile dell’artista; e\, ancora\, nella rappresentazione\, opera di Cosimo Privato\, di un Campo San Bartolomeo lucido di pioggia e popolato di ombrelli. In Virgilio Guidi diventa macchia di colore contro uno sfondo in cui cielo e mare si fondono in una lirica ed essenziale visione di insieme. Insieme a loro tanti altri interpreti del colore e della luce raccontano\, nella mostra “Sguardi su Venezia”\, ciò che la città seppe ispirare e suggerire. Da Cagnaccio di San Pietro a Giuseppe Santomaso\, da Juti Ravenna a Fioravante Seibezzi\, da Emanuele Brugnoli ad Angelo Brombo\, sono molte le firme proposte lungo un percorso espositivo in cui gli artisti dialogano tra loro\, consegnando il loro colorato\, luminoso e appassionato “sguardo su Venezia”. \nLa mostra verrà aperta il 10 gennaio 2020 e potrà essere visitata fino al 28 marzo 2020 dal lunedì al venerdì dalle 9.00 alle 18.00 e il sabato dalle 9.00 alle 11.30. \n(fonte www.fondazionedivenezia.org)
URL:https://www.venicedreamhouse.com/event/sguardi-su-venezia/?lang=en
LOCATION:Fondazione di Venezia\, Dorsoduro 3488/u\, Venezia\, VE\, 30123\, Italia
CATEGORIES:Exhibitions
ATTACH;FMTTYPE=image/jpeg:https://www.venicedreamhouse.com/wp-content/uploads/2020/02/SGUARDI-SU-VENEZIA.jpg
ORGANIZER;CN="Fondazione%20di%20Venezia":MAILTO:segreteria@fondazionedivenezia.org
END:VEVENT
END:VCALENDAR