BEGIN:VCALENDAR
VERSION:2.0
PRODID:-//Venice Dream House - ECPv5.10.1//NONSGML v1.0//EN
CALSCALE:GREGORIAN
METHOD:PUBLISH
X-WR-CALNAME:Venice Dream House
X-ORIGINAL-URL:https://www.venicedreamhouse.com/?lang=en
X-WR-CALDESC:Events for Venice Dream House
BEGIN:VTIMEZONE
TZID:Europe/Rome
BEGIN:DAYLIGHT
TZOFFSETFROM:+0100
TZOFFSETTO:+0200
TZNAME:CEST
DTSTART:20190331T010000
END:DAYLIGHT
BEGIN:STANDARD
TZOFFSETFROM:+0200
TZOFFSETTO:+0100
TZNAME:CET
DTSTART:20191027T010000
END:STANDARD
END:VTIMEZONE
BEGIN:VEVENT
DTSTART;VALUE=DATE:20190511
DTEND;VALUE=DATE:20191125
DTSTAMP:20260419T142956
CREATED:20180731T074840Z
LAST-MODIFIED:20180926T092009Z
UID:6777-1557532800-1574639999@www.venicedreamhouse.com
SUMMARY:Venice Biennale 2019
DESCRIPTION:The International Art Exhibition\, more commonly called the Venice Biennale\, is one of the oldest and most prestigious international art exhibitions in the world. \nInaugurated in 1895\, to celebrate the silver wedding of King Umberto and Margherita di Savoia\, the Exposition reached its 58th edition\, which was entrusted to Ralph Rugoff. \nPresident Paolo Baratta stated that “the appointment of Ralph Rugoff confirms the Biennale’s primary goal\, to qualify the Exhibition as a place of encounter between the visitors\, the art and the artists. An Exhibition engaging the viewers directly with the artworks in such a way that memory\, the unexpected\, the new and the different can stimulate their visions\, their minds and their emotions.” \nRalph Rugoff has declared “I am absolutely thrilled with this appointment. The Venice Biennale is the oldest and most prestigious exhibition of its kind internationally and I am really looking forward to taking on this new challenge.”\nThe 58th International Art Exhibition will take place from 11th May to 24th November 2019 (preview 8th\, 9th and 10th May). \n(source: www.labiennale.org)
URL:https://www.venicedreamhouse.com/event/venice-biennale-2019/?lang=en
LOCATION:Giardini Napoleonici della Biennale\, Sestiere Castello\, Venezia\, VE\, 30122\, Italia
CATEGORIES:Exhibitions
ATTACH;FMTTYPE=image/jpeg:https://www.venicedreamhouse.com/wp-content/uploads/2018/07/Biennalearchitettura.jpg
END:VEVENT
END:VCALENDAR